BEGIN:VCALENDAR
VERSION:2.0
PRODID:-//Department Of Education//ce4faf30-3ad5-41c2-b129-3aa168272715
BEGIN:VTIMEZONE
TZID:Australia/Sydney
TZURL:http://tzurl.org/zoneinfo-outlook/Australia/Sydney
X-LIC-LOCATION:Australia/Sydney
BEGIN:STANDARD
TZOFFSETFROM:+1100
TZOFFSETTO:+1000
TZNAME:AEST
DTSTART:19700405T030000
RRULE:FREQ=YEARLY;BYMONTH=4;BYDAY=1SU
END:STANDARD
BEGIN:DAYLIGHT
TZOFFSETFROM:+1000
TZOFFSETTO:+1100
TZNAME:AEDT
DTSTART:19701004T020000
RRULE:FREQ=YEARLY;BYMONTH=10;BYDAY=1SU
END:DAYLIGHT
END:VTIMEZONE
CALSCALE:GREGORIAN
X-WR-TIMEZONE:Australia/Sydney
BEGIN:VEVENT
DTSTART;VALUE=DATE:20200428
DTEND;VALUE=DATE:20200429
DTSTAMP:20200428T000000Z
UID:764fbf6b-3298-48ed-9545-58d516570aa6
LOCATION:Chifley College Shalvey Campus
SUMMARY;LANGUAGE=en-us:Students return for Term 2
SEQUENCE:0
DESCRIPTION:  
END:VEVENT
TRANSP:TRANSPARENT
END:VCALENDAR
