BEGIN:VCALENDAR
VERSION:2.0
PRODID:-//Department Of Education//b97f9954-2224-4e24-93a6-3ae2f37f00aa
BEGIN:VTIMEZONE
TZID:Australia/Sydney
TZURL:http://tzurl.org/zoneinfo-outlook/Australia/Sydney
X-LIC-LOCATION:Australia/Sydney
BEGIN:STANDARD
TZOFFSETFROM:+1100
TZOFFSETTO:+1000
TZNAME:AEST
DTSTART:19700405T030000
RRULE:FREQ=YEARLY;BYMONTH=4;BYDAY=1SU
END:STANDARD
BEGIN:DAYLIGHT
TZOFFSETFROM:+1000
TZOFFSETTO:+1100
TZNAME:AEDT
DTSTART:19701004T020000
RRULE:FREQ=YEARLY;BYMONTH=10;BYDAY=1SU
END:DAYLIGHT
END:VTIMEZONE
CALSCALE:GREGORIAN
X-WR-TIMEZONE:Australia/Sydney
BEGIN:VEVENT
DTSTART;TZID=Australia/Sydney:20200312T153000
DTEND;TZID=Australia/Sydney:20200312T173000
DTSTAMP:20200312T000000Z
UID:22531bd6-85ce-4833-9522-489367488ac3
LOCATION:Chifley College Shalvey Campus
SUMMARY;LANGUAGE=en-us:Open Night
SEQUENCE:0
DESCRIPTION:  
END:VEVENT
TRANSP:TRANSPARENT
END:VCALENDAR
