BEGIN:VCALENDAR
VERSION:2.0
PRODID:-//Department Of Education//2e59b2b7-3e12-475b-bd02-b939fa1efe30
BEGIN:VTIMEZONE
TZID:Australia/Sydney
TZURL:http://tzurl.org/zoneinfo-outlook/Australia/Sydney
X-LIC-LOCATION:Australia/Sydney
BEGIN:STANDARD
TZOFFSETFROM:+1100
TZOFFSETTO:+1000
TZNAME:AEST
DTSTART:19700405T030000
RRULE:FREQ=YEARLY;BYMONTH=4;BYDAY=1SU
END:STANDARD
BEGIN:DAYLIGHT
TZOFFSETFROM:+1000
TZOFFSETTO:+1100
TZNAME:AEDT
DTSTART:19701004T020000
RRULE:FREQ=YEARLY;BYMONTH=10;BYDAY=1SU
END:DAYLIGHT
END:VTIMEZONE
CALSCALE:GREGORIAN
X-WR-TIMEZONE:Australia/Sydney
BEGIN:VEVENT
DTSTART;TZID=Australia/Sydney:20200317T153000
DTEND;TZID=Australia/Sydney:20200317T173000
DTSTAMP:20200317T000000Z
UID:7f16c4b9-f373-4c3b-ad33-de04e491d3b0
LOCATION:Chifley College Shalvey Campus
SUMMARY;LANGUAGE=en-us:Meet & Greet - Year 7, 2020
SEQUENCE:0
DESCRIPTION:  
END:VEVENT
TRANSP:TRANSPARENT
END:VCALENDAR
